BEGIN:VCALENDAR
VERSION:2.0
PRODID:-//wp-events-plugin.com//7.2.3.1//EN
TZID:Europe/London
X-WR-TIMEZONE:Europe/London
BEGIN:VEVENT
UID:676@myropley.org.uk
DTSTART;TZID=Europe/London:20251226T093000
DTEND;TZID=Europe/London:20251226T110000
DTSTAMP:20251212T183107Z
URL:https://www.myropley.org.uk/events/51st-boxing-day-walk/
SUMMARY:51st Boxing Day Walk
DESCRIPTION:Yes\,  it's on again  - with a choice of 3 or 5 mile circular
  walk starting from the Sports Pavilion any time between 9:30 &amp\; 11am
CATEGORIES:Standard
LOCATION:Ropley Sports Pavilion\, Vicarage Lane \, Ropley\, SO24 0DJ\, Unit
 ed Kingdom
X-APPLE-STRUCTURED-LOCATION;VALUE=URI;X-ADDRESS=Vicarage Lane \, Ropley\, S
 O24 0DJ\, United Kingdom;X-APPLE-RADIUS=100;X-TITLE=Ropley Sports Pavilion
 :geo:0,0
END:VEVENT
BEGIN:VTIMEZONE
TZID:Europe/London
X-LIC-LOCATION:Europe/London
BEGIN:STANDARD
DTSTART:20251026T010000
TZOFFSETFROM:+0100
TZOFFSETTO:+0000
TZNAME:GMT
END:STANDARD
END:VTIMEZONE
END:VCALENDAR