BEGIN:VCALENDAR
VERSION:2.0
PRODID:-//wp-events-plugin.com//7.2.3.1//EN
TZID:Europe/London
X-WR-TIMEZONE:Europe/London
BEGIN:VEVENT
UID:97@myropley.org.uk
DTSTART;TZID=Europe/London:20240406T193000
DTEND;TZID=Europe/London:20240406T213000
DTSTAMP:20240308T183043Z
URL:https://www.myropley.org.uk/events/a-chip-in-the-sugar-bed-among-the-l
 entils/
SUMMARY:A Chip in the Sugar & Bed Among the Lentils
DESCRIPTION:\n\n&nbsp\;\n\n&nbsp\;\n\nAnne Carter
CATEGORIES:Standard
LOCATION:St Peter's Church\, St Peter's Church\, Ropley\, Alresford\, Hamps
 hire\, United Kingdom
X-APPLE-STRUCTURED-LOCATION;VALUE=URI;X-ADDRESS=St Peter's Church\, Ropley\
 , Alresford\, Hampshire\, United Kingdom;X-APPLE-RADIUS=100;X-TITLE=St Pet
 er's Church:geo:0,0
END:VEVENT
BEGIN:VTIMEZONE
TZID:Europe/London
X-LIC-LOCATION:Europe/London
BEGIN:DAYLIGHT
DTSTART:20240331T020000
TZOFFSETFROM:+0000
TZOFFSETTO:+0100
TZNAME:BST
END:DAYLIGHT
END:VTIMEZONE
END:VCALENDAR