BEGIN:VCALENDAR
VERSION:2.0
PRODID:-//wp-events-plugin.com//7.2.3.1//EN
TZID:Europe/London
X-WR-TIMEZONE:Europe/London
BEGIN:VEVENT
UID:174@myropley.org.uk
DTSTART;TZID=Europe/London:20241207T193000
DTEND;TZID=Europe/London:20241207T220000
DTSTAMP:20240930T114716Z
URL:https://www.myropley.org.uk/events/a-christmas-carol-by-charles-dicken
 s/
SUMMARY:A Christmas Carol by Charles Dickens
DESCRIPTION:Tickets at £20 per person from https://www.stpetersropleyvenue
 .org.uk/\n\nDoors and Bar Open from 6.45pm\n\n&nbsp\;
CATEGORIES:Standard
LOCATION:St Peter's Church\, St Peter's Church\, Ropley\, Alresford\, Hamps
 hire\, United Kingdom
X-APPLE-STRUCTURED-LOCATION;VALUE=URI;X-ADDRESS=St Peter's Church\, Ropley\
 , Alresford\, Hampshire\, United Kingdom;X-APPLE-RADIUS=100;X-TITLE=St Pet
 er's Church:geo:0,0
END:VEVENT
BEGIN:VTIMEZONE
TZID:Europe/London
X-LIC-LOCATION:Europe/London
BEGIN:STANDARD
DTSTART:20241027T010000
TZOFFSETFROM:+0100
TZOFFSETTO:+0000
TZNAME:GMT
END:STANDARD
END:VTIMEZONE
END:VCALENDAR