BEGIN:VCALENDAR
VERSION:2.0
PRODID:-//wp-events-plugin.com//7.2.3.1//EN
TZID:Europe/London
X-WR-TIMEZONE:Europe/London
BEGIN:VEVENT
UID:41@myropley.org.uk
DTSTART;TZID=Europe/London:20231226T100000
DTEND;TZID=Europe/London:20231226T130000
DTSTAMP:20231031T184300Z
URL:https://www.myropley.org.uk/events/boxing-day-walk/
SUMMARY:Boxing Day Walk
DESCRIPTION:Yes\, Christmas is on the horizon and after that nice relaxing 
 Christmas Day comes Boxing Day\, which means that once again it's time for
  the Boxing Day Walk.\n\nThe format is now well established - all you have
  to do is turn up at the Sports Pavilion on the Recreation Ground  betwee
 n the  hours of 10.00 to 11.15 - choose a 3 or 5 mile route (approximate)
  to work up an appetite for that yummy Boxing Day lunch\, or just stretch 
 your legs after your lovely Christmas Day.\n\nAs always\, it's a free even
 t with a donations bowl which will be donated to a deserving village cause
 .......this year our village shop.\nHope to see you there\, whatever the w
 eather !\n\nTim Day for Ropley Walks
CATEGORIES:Standard
LOCATION:Ropley Sports Pavilion\, Vicarage Lane \, Ropley\, SO24 0DJ\, Unit
 ed Kingdom
X-APPLE-STRUCTURED-LOCATION;VALUE=URI;X-ADDRESS=Vicarage Lane \, Ropley\, S
 O24 0DJ\, United Kingdom;X-APPLE-RADIUS=100;X-TITLE=Ropley Sports Pavilion
 :geo:0,0
END:VEVENT
BEGIN:VTIMEZONE
TZID:Europe/London
X-LIC-LOCATION:Europe/London
BEGIN:STANDARD
DTSTART:20231029T010000
TZOFFSETFROM:+0100
TZOFFSETTO:+0000
TZNAME:GMT
END:STANDARD
END:VTIMEZONE
END:VCALENDAR