BEGIN:VCALENDAR
VERSION:2.0
PRODID:-//wp-events-plugin.com//7.2.3.1//EN
TZID:Europe/London
X-WR-TIMEZONE:Europe/London
BEGIN:VEVENT
UID:671@myropley.org.uk
DTSTART;TZID=Europe/London:20251219T183000
DTEND;TZID=Europe/London:20251219T200000
DTSTAMP:20251204T095916Z
URL:https://www.myropley.org.uk/events/broadlands-carol-evening/
SUMMARY:Broadlands Carol Evening
DESCRIPTION:\n\nKim Ottridge
CATEGORIES:Standard
LOCATION:Broadlands\, Broadlands Group RDA\, Medstead\, Hants\, GU 34 5PX\,
  United Kingdom
X-APPLE-STRUCTURED-LOCATION;VALUE=URI;X-ADDRESS=Broadlands Group RDA\, Meds
 tead\, Hants\, GU 34 5PX\, United Kingdom;X-APPLE-RADIUS=100;X-TITLE=Broad
 lands:geo:0,0
END:VEVENT
BEGIN:VTIMEZONE
TZID:Europe/London
X-LIC-LOCATION:Europe/London
BEGIN:STANDARD
DTSTART:20251026T010000
TZOFFSETFROM:+0100
TZOFFSETTO:+0000
TZNAME:GMT
END:STANDARD
END:VTIMEZONE
END:VCALENDAR