BEGIN:VCALENDAR
VERSION:2.0
PRODID:-//wp-events-plugin.com//7.2.3.1//EN
TZID:Europe/London
X-WR-TIMEZONE:Europe/London
BEGIN:VEVENT
UID:697@myropley.org.uk
DTSTART;TZID=Europe/London:20260424T150000
DTEND;TZID=Europe/London:20260424T170000
DTSTAMP:20260306T183553Z
URL:https://www.myropley.org.uk/events/broadlands-event-quiz-night-2/
SUMMARY:Broadlands Event - Tea at Three
DESCRIPTION:\n&nbsp\;\n\nKim Ottridge
CATEGORIES:Standard
LOCATION:Medstead Village Hall\, Roe Downs Rd\, Medstead\, GU34 5LG\, Unite
 d Kingdom
X-APPLE-STRUCTURED-LOCATION;VALUE=URI;X-ADDRESS=Roe Downs Rd\, Medstead\, G
 U34 5LG\, United Kingdom;X-APPLE-RADIUS=100;X-TITLE=Medstead Village Hall:
 geo:0,0
END:VEVENT
BEGIN:VTIMEZONE
TZID:Europe/London
X-LIC-LOCATION:Europe/London
BEGIN:DAYLIGHT
DTSTART:20260329T020000
TZOFFSETFROM:+0000
TZOFFSETTO:+0100
TZNAME:BST
END:DAYLIGHT
END:VTIMEZONE
END:VCALENDAR