BEGIN:VCALENDAR
VERSION:2.0
PRODID:-//wp-events-plugin.com//7.2.3.1//EN
TZID:Europe/London
X-WR-TIMEZONE:Europe/London
BEGIN:VEVENT
UID:683@myropley.org.uk
DTSTART;TZID=Europe/London:20260225T181500
DTEND;TZID=Europe/London:20260225T203000
DTSTAMP:20260121T112238Z
URL:https://www.myropley.org.uk/events/broadlands-event-singing-with-dan/
SUMMARY:Broadlands Event - Singing with Dan
DESCRIPTION:\nKim Ottridge
CATEGORIES:Standard
LOCATION:Bentworth Community Hub\, Bentworth Church\, Bentworth\, Hants\, G
 U34 1HL\, 
X-APPLE-STRUCTURED-LOCATION;VALUE=URI;X-ADDRESS=Bentworth Church\, Bentwort
 h\, Hants\, GU34 1HL\, ;X-APPLE-RADIUS=100;X-TITLE=Bentworth Community Hub
 :geo:0,0
END:VEVENT
BEGIN:VTIMEZONE
TZID:Europe/London
X-LIC-LOCATION:Europe/London
BEGIN:STANDARD
DTSTART:20251026T010000
TZOFFSETFROM:+0100
TZOFFSETTO:+0000
TZNAME:GMT
END:STANDARD
END:VTIMEZONE
END:VCALENDAR