BEGIN:VCALENDAR
VERSION:2.0
PRODID:-//wp-events-plugin.com//7.2.3.1//EN
TZID:Europe/London
X-WR-TIMEZONE:Europe/London
BEGIN:VEVENT
UID:696@myropley.org.uk
DTSTART;TZID=Europe/London:20260507T103000
DTEND;TZID=Europe/London:20260507T123000
DTSTAMP:20260306T183021Z
URL:https://www.myropley.org.uk/events/broadlands-event-tour-of-parkhouse-
 stables/
SUMMARY:Broadlands Event - Tour of Parkhouse Stables
DESCRIPTION:\n&nbsp\;\n\nKim Ottridge
CATEGORIES:Standard
LOCATION:Parkhouse Stables\, Winchester Rd\, Kingsclere\, RG20 5PY\, 
X-APPLE-STRUCTURED-LOCATION;VALUE=URI;X-ADDRESS=Winchester Rd\, Kingsclere\
 , RG20 5PY\, ;X-APPLE-RADIUS=100;X-TITLE=Parkhouse Stables:geo:0,0
END:VEVENT
BEGIN:VTIMEZONE
TZID:Europe/London
X-LIC-LOCATION:Europe/London
BEGIN:DAYLIGHT
DTSTART:20260329T020000
TZOFFSETFROM:+0000
TZOFFSETTO:+0100
TZNAME:BST
END:DAYLIGHT
END:VTIMEZONE
END:VCALENDAR