BEGIN:VCALENDAR
VERSION:2.0
PRODID:-//wp-events-plugin.com//7.2.3.1//EN
TZID:Europe/London
X-WR-TIMEZONE:Europe/London
BEGIN:VEVENT
UID:242@myropley.org.uk
DTSTART;TZID=Europe/London:20250506T190000
DTEND;TZID=Europe/London:20250506T203000
DTSTAMP:20250217T094952Z
URL:https://www.myropley.org.uk/events/broadlands-rda-sophie-rouet-the-mon
 gol-derby/
SUMMARY:Broadlands RDA "Sophie Rouet & The Mongol Derby"
DESCRIPTION:&nbsp\;\n\n
CATEGORIES:Standard
LOCATION:Wivelrod Barns\, Wivelrod Rd\, Wivelrod\, Alton \, GU34 4AS\, Unit
 ed Kingdom
X-APPLE-STRUCTURED-LOCATION;VALUE=URI;X-ADDRESS=Wivelrod Rd\, Wivelrod\, Al
 ton \, GU34 4AS\, United Kingdom;X-APPLE-RADIUS=100;X-TITLE=Wivelrod Barns
 :geo:0,0
END:VEVENT
BEGIN:VTIMEZONE
TZID:Europe/London
X-LIC-LOCATION:Europe/London
BEGIN:DAYLIGHT
DTSTART:20250330T020000
TZOFFSETFROM:+0000
TZOFFSETTO:+0100
TZNAME:BST
END:DAYLIGHT
END:VTIMEZONE
END:VCALENDAR