BEGIN:VCALENDAR
VERSION:2.0
PRODID:-//wp-events-plugin.com//7.2.3.1//EN
TZID:Europe/London
X-WR-TIMEZONE:Europe/London
BEGIN:VEVENT
UID:244@myropley.org.uk
DTSTART;TZID=Europe/London:20250326T183000
DTEND;TZID=Europe/London:20250326T200000
DTSTAMP:20250217T095357Z
URL:https://www.myropley.org.uk/events/broadlands-rda-talk-pauls-walk-to-r
 ome/
SUMMARY:Broadlands RDA Talk "Paul's Walk to Rome"
DESCRIPTION:
CATEGORIES:Standard
LOCATION:Wivelrod Barns\, Wivelrod Rd\, Wivelrod\, Alton \, GU34 4AS\, Unit
 ed Kingdom
X-APPLE-STRUCTURED-LOCATION;VALUE=URI;X-ADDRESS=Wivelrod Rd\, Wivelrod\, Al
 ton \, GU34 4AS\, United Kingdom;X-APPLE-RADIUS=100;X-TITLE=Wivelrod Barns
 :geo:0,0
END:VEVENT
BEGIN:VTIMEZONE
TZID:Europe/London
X-LIC-LOCATION:Europe/London
BEGIN:STANDARD
DTSTART:20241027T010000
TZOFFSETFROM:+0100
TZOFFSETTO:+0000
TZNAME:GMT
END:STANDARD
END:VTIMEZONE
END:VCALENDAR