BEGIN:VCALENDAR
VERSION:2.0
PRODID:-//wp-events-plugin.com//7.2.3.1//EN
TZID:Europe/London
X-WR-TIMEZONE:Europe/London
BEGIN:VEVENT
UID:268@myropley.org.uk
DTSTART;TZID=Europe/London:20250523T150000
DTEND;TZID=Europe/London:20250523T170000
DTSTAMP:20250417T124307Z
URL:https://www.myropley.org.uk/events/broadlands-rda-tea-at-three/
SUMMARY:Broadlands RDA "Tea at Three"
DESCRIPTION:
CATEGORIES:Standard
LOCATION:Broadlands\, Broadlands Group RDA\, Medstead\, Hants\, GU 34 5PX\,
  United Kingdom
X-APPLE-STRUCTURED-LOCATION;VALUE=URI;X-ADDRESS=Broadlands Group RDA\, Meds
 tead\, Hants\, GU 34 5PX\, United Kingdom;X-APPLE-RADIUS=100;X-TITLE=Broad
 lands:geo:0,0
END:VEVENT
BEGIN:VTIMEZONE
TZID:Europe/London
X-LIC-LOCATION:Europe/London
BEGIN:DAYLIGHT
DTSTART:20250330T020000
TZOFFSETFROM:+0000
TZOFFSETTO:+0100
TZNAME:BST
END:DAYLIGHT
END:VTIMEZONE
END:VCALENDAR