BEGIN:VCALENDAR
VERSION:2.0
PRODID:-//wp-events-plugin.com//7.2.3.1//EN
TZID:Europe/London
X-WR-TIMEZONE:Europe/London
BEGIN:VEVENT
UID:20@myropley.org.uk
DTSTART;TZID=Europe/London:20231109T140000
DTEND;TZID=Europe/London:20231109T170000
DTSTAMP:20230907T125722Z
URL:https://www.myropley.org.uk/events/calling-all-card-players-the-courty
 ards-big-bridge-tea/
SUMMARY:Calling all Card Players: The Courtyard’s Big Bridge Tea
DESCRIPTION:\n\nWe’re having a Bridge Tea to raise funds to help support
  The Courtyard\, your community village shop.\nCome and enjoy a sociable a
 fternoon with a delicious tea.
CATEGORIES:Standard
LOCATION:St Peter's Church\, St Peter's Church\, Ropley\, Alresford\, Hamps
 hire\, United Kingdom
X-APPLE-STRUCTURED-LOCATION;VALUE=URI;X-ADDRESS=St Peter's Church\, Ropley\
 , Alresford\, Hampshire\, United Kingdom;X-APPLE-RADIUS=100;X-TITLE=St Pet
 er's Church:geo:0,0
END:VEVENT
BEGIN:VTIMEZONE
TZID:Europe/London
X-LIC-LOCATION:Europe/London
BEGIN:STANDARD
DTSTART:20231029T010000
TZOFFSETFROM:+0100
TZOFFSETTO:+0000
TZNAME:GMT
END:STANDARD
END:VTIMEZONE
END:VCALENDAR