BEGIN:VCALENDAR
VERSION:2.0
PRODID:-//wp-events-plugin.com//7.2.3.1//EN
TZID:Europe/London
X-WR-TIMEZONE:Europe/London
BEGIN:VEVENT
UID:609@myropley.org.uk
DTSTART;TZID=Europe/London:20251218T180000
DTEND;TZID=Europe/London:20251218T190000
DTSTAMP:20251212T182414Z
URL:https://www.myropley.org.uk/events/carols-in-the-churchyard-2/
SUMMARY:Carols in the Churchyard
DESCRIPTION:\n\nThe Friends of St Peter's are holding Carols in the Churchy
 ard at St Peter's from 6 - 7 pm on Thursday\, 18th December from 6 - 7 pm.
  Everyone is very welcome to come and sing their favourite carols.\n\nMull
 ed wine and mince pies will be available.\n\nNo tickets needed\, but donat
 ions to The Friends will be very welcome.\n\nIf it's raining the Carols wi
 ll be held in the church.\nAlison Wood
CATEGORIES:Standard
LOCATION:St Peter's Church\, St Peter's Church\, Ropley\, Alresford\, Hamps
 hire\, United Kingdom
X-APPLE-STRUCTURED-LOCATION;VALUE=URI;X-ADDRESS=St Peter's Church\, Ropley\
 , Alresford\, Hampshire\, United Kingdom;X-APPLE-RADIUS=100;X-TITLE=St Pet
 er's Church:geo:0,0
END:VEVENT
BEGIN:VTIMEZONE
TZID:Europe/London
X-LIC-LOCATION:Europe/London
BEGIN:STANDARD
DTSTART:20251026T010000
TZOFFSETFROM:+0100
TZOFFSETTO:+0000
TZNAME:GMT
END:STANDARD
END:VTIMEZONE
END:VCALENDAR