BEGIN:VCALENDAR
VERSION:2.0
PRODID:-//wp-events-plugin.com//7.2.3.1//EN
TZID:Europe/London
X-WR-TIMEZONE:Europe/London
BEGIN:VEVENT
UID:98@myropley.org.uk
DTSTART;TZID=Europe/London:20240424T140000
DTEND;TZID=Europe/London:20240424T170000
DTSTAMP:20240309T183228Z
URL:https://www.myropley.org.uk/events/charity-bridge-tea/
SUMMARY:Charity Bridge Tea
DESCRIPTION:Please come to a bridge tea run by  The Alresford Cancer Resea
 rch Committee https://www.cancerresearchuk.org/region/hampshire\n\nFor boo
 king details please contact saranangle@hotmail.co.uk\n\n&nbsp\;
CATEGORIES:Standard
LOCATION:St Peter's Church\, St Peter's Church\, Ropley\, Alresford\, Hamps
 hire\, United Kingdom
X-APPLE-STRUCTURED-LOCATION;VALUE=URI;X-ADDRESS=St Peter's Church\, Ropley\
 , Alresford\, Hampshire\, United Kingdom;X-APPLE-RADIUS=100;X-TITLE=St Pet
 er's Church:geo:0,0
END:VEVENT
BEGIN:VTIMEZONE
TZID:Europe/London
X-LIC-LOCATION:Europe/London
BEGIN:DAYLIGHT
DTSTART:20240331T020000
TZOFFSETFROM:+0000
TZOFFSETTO:+0100
TZNAME:BST
END:DAYLIGHT
END:VTIMEZONE
END:VCALENDAR