BEGIN:VCALENDAR
VERSION:2.0
PRODID:-//wp-events-plugin.com//7.2.3.1//EN
TZID:Europe/London
X-WR-TIMEZONE:Europe/London
BEGIN:VEVENT
UID:110@myropley.org.uk
DTSTART;TZID=Europe/London:20240511T100000
DTEND;TZID=Europe/London:20240511T120000
DTSTAMP:20240509T143835Z
URL:https://www.myropley.org.uk/events/churchyard-working-party/
SUMMARY:Churchyard Working Party
DESCRIPTION:The churchyard team are back in action caring for the two acre 
 site as the grass and wild flowers come into their own. If you are ever in
  need of a change of scenery or just a bit of company\, then do come along
  and meet up with them\, they will be delighted to see you and welcome you
  onboard. They meet on a Tuesday from 10.30 for a couple of hours with a c
 up of tea and some biscuits never too far away.\n\nSaturday 11th May from
  10.00 - 12.00 we will be holding a churchyard working party.\n\nWe are lo
 oking for help to clear some of the land down by the back car park that ha
 s become overgrown with Doc and other weeds. Perhaps not the most glamorou
 s of jobs\, but many hands make light work and we are determined to get on
  top of them before they romp further across our churchyard!\n\nNo need to
  sign up\, just come along with your own garden fork if you have one.\n\nC
 offee and cake provided for all.\n\nBarbara Pettegree
CATEGORIES:Standard
LOCATION:St Peter's Church\, St Peter's Church\, Ropley\, Alresford\, Hamps
 hire\, United Kingdom
X-APPLE-STRUCTURED-LOCATION;VALUE=URI;X-ADDRESS=St Peter's Church\, Ropley\
 , Alresford\, Hampshire\, United Kingdom;X-APPLE-RADIUS=100;X-TITLE=St Pet
 er's Church:geo:0,0
END:VEVENT
BEGIN:VTIMEZONE
TZID:Europe/London
X-LIC-LOCATION:Europe/London
BEGIN:DAYLIGHT
DTSTART:20240331T020000
TZOFFSETFROM:+0000
TZOFFSETTO:+0100
TZNAME:BST
END:DAYLIGHT
END:VTIMEZONE
END:VCALENDAR