BEGIN:VCALENDAR
VERSION:2.0
PRODID:-//wp-events-plugin.com//7.2.3.1//EN
TZID:Europe/London
X-WR-TIMEZONE:Europe/London
BEGIN:VEVENT
UID:259@myropley.org.uk
DTSTART;TZID=Europe/London:20250322T193000
DTEND;TZID=Europe/London:20250322T213000
DTSTAMP:20250228T180522Z
URL:https://www.myropley.org.uk/events/cinema-at-ropley-chocolat/
SUMMARY:Cinema at Ropley - Chocolat
DESCRIPTION:\n\n&nbsp\;\n\n[pdf-embedder url="https://www.myropley.org.uk/w
 p-content/uploads/2025/02/Chocolat-poster.pdf" title="Chocolat poster"]\n\
 n&nbsp\;\n\nTrailer for Chocolat: https://www.youtube.com/watch?v=UP0YcuBQ
 GD0 \n\nBuy tickets online at ropleyparishhall.org.uk\n\nSarah Flook\nRopl
 ey Film Society\n\n&nbsp\;\n\n&nbsp\;
CATEGORIES:Standard
LOCATION:Ropley Parish Hall\, Ropley Parish Hall\, Ropley\, Alresford\, Ham
 pshire\, United Kingdom
X-APPLE-STRUCTURED-LOCATION;VALUE=URI;X-ADDRESS=Ropley Parish Hall\, Ropley
 \, Alresford\, Hampshire\, United Kingdom;X-APPLE-RADIUS=100;X-TITLE=Rople
 y Parish Hall:geo:0,0
END:VEVENT
BEGIN:VTIMEZONE
TZID:Europe/London
X-LIC-LOCATION:Europe/London
BEGIN:STANDARD
DTSTART:20241027T010000
TZOFFSETFROM:+0100
TZOFFSETTO:+0000
TZNAME:GMT
END:STANDARD
END:VTIMEZONE
END:VCALENDAR