BEGIN:VCALENDAR
VERSION:2.0
PRODID:-//wp-events-plugin.com//7.2.3.1//EN
TZID:Europe/London
X-WR-TIMEZONE:Europe/London
BEGIN:VEVENT
UID:572@myropley.org.uk
DTSTART;TZID=Europe/London:20251214T160000
DTEND;TZID=Europe/London:20251214T190000
DTSTAMP:20251013T110941Z
URL:https://www.myropley.org.uk/events/cinema-at-ropley-christmas-ballet-s
 creening-title-tbc/
SUMMARY:Cinema at Ropley - Christmas Ballet matinee "Cinderella"
DESCRIPTION:\n\n[caption id="attachment_8880" align="aligncenter" width="64
 0"] A scene from Cinderella by Frederick Ashton @ Royal Opera House. A Roy
 al Ballet New Production. Conductor\, Koen Kessels.(Opening 27-03-2023)©T
 ristram Kenton 03-23(3 Raveley Street\, LONDON NW5 2HX TEL 0207 267 5550 M
 ob 07973 617 355)email: tristram@tristramkenton.com[/caption]\n\n\n[pdf-em
 bedder url="https://www.myropley.org.uk/wp-content/uploads/2025/08/Cindere
 lla-poster-1.pdf" title="Cinderella poster 1"]\n......\nTickets available 
 from The Courtyard Shop &amp\;  ropleyparishhall.org.uk  \n\nSarah Flook
 \nRopley Film Society\n\n&nbsp\;\n\n&nbsp\;
CATEGORIES:Standard
LOCATION:Ropley Parish Hall\, Ropley Parish Hall\, Ropley\, Alresford\, Ham
 pshire\, United Kingdom
X-APPLE-STRUCTURED-LOCATION;VALUE=URI;X-ADDRESS=Ropley Parish Hall\, Ropley
 \, Alresford\, Hampshire\, United Kingdom;X-APPLE-RADIUS=100;X-TITLE=Rople
 y Parish Hall:geo:0,0
END:VEVENT
BEGIN:VTIMEZONE
TZID:Europe/London
X-LIC-LOCATION:Europe/London
BEGIN:STANDARD
DTSTART:20251026T010000
TZOFFSETFROM:+0100
TZOFFSETTO:+0000
TZNAME:GMT
END:STANDARD
END:VTIMEZONE
END:VCALENDAR