BEGIN:VCALENDAR
VERSION:2.0
PRODID:-//wp-events-plugin.com//7.2.3.1//EN
TZID:Europe/London
X-WR-TIMEZONE:Europe/London
BEGIN:VEVENT
UID:678@myropley.org.uk
DTSTART;TZID=Europe/London:20260110T193000
DTEND;TZID=Europe/London:20260110T213000
DTSTAMP:20260108T182827Z
URL:https://www.myropley.org.uk/events/cinema-at-ropley-downton-abbey/
SUMMARY:Cinema at Ropley - Downton Abbey: The Grand Finale
DESCRIPTION:\n[pdf-embedder url="https://www.myropley.org.uk/wp-content/upl
 oads/2026/01/Downton-Abbey-poster.pdf" title="Downton Abbey poster"]\n....
 .\nTrailer:  https://www.youtube.com/watch?v=P_30wFRxlnA\n\nTickets avail
 able from The Courtyard Shop &amp\;  ropleyparishhall.org.uk  \n\nSarah 
 Flook\nRopley Film Society\n\n&nbsp\;\n\n&nbsp\;
CATEGORIES:Standard
LOCATION:Ropley Parish Hall\, Ropley Parish Hall\, Ropley\, Alresford\, Ham
 pshire\, United Kingdom
X-APPLE-STRUCTURED-LOCATION;VALUE=URI;X-ADDRESS=Ropley Parish Hall\, Ropley
 \, Alresford\, Hampshire\, United Kingdom;X-APPLE-RADIUS=100;X-TITLE=Rople
 y Parish Hall:geo:0,0
END:VEVENT
BEGIN:VTIMEZONE
TZID:Europe/London
X-LIC-LOCATION:Europe/London
BEGIN:STANDARD
DTSTART:20251026T010000
TZOFFSETFROM:+0100
TZOFFSETTO:+0000
TZNAME:GMT
END:STANDARD
END:VTIMEZONE
END:VCALENDAR