BEGIN:VCALENDAR
VERSION:2.0
PRODID:-//wp-events-plugin.com//7.2.3.1//EN
TZID:Europe/London
X-WR-TIMEZONE:Europe/London
BEGIN:VEVENT
UID:570@myropley.org.uk
DTSTART;TZID=Europe/London:20251108T150000
DTEND;TZID=Europe/London:20251108T170000
DTSTAMP:20251013T110125Z
URL:https://www.myropley.org.uk/events/cinema-at-ropley-family-matinee-flo
 w-u/
SUMMARY:Cinema at Ropley -  Family Matinee\, Flow (U)
DESCRIPTION:\n\n\n\n[pdf-embedder url="https://www.myropley.org.uk/wp-conte
 nt/uploads/2025/08/Flow-poster-1.pdf" title="Flow poster"]\n.....\n\nTrail
 er: https://www.youtube.com/watch?v=eD06LQzWFTc\n&nbsp\;\n\nTickets availa
 ble from The Courtyard Shop &amp\;  ropleyparishhall.org.uk  \n\nSarah F
 look\nRopley Film Society\n\n&nbsp\;\n\n&nbsp\;
CATEGORIES:Standard
LOCATION:Ropley Parish Hall\, Ropley Parish Hall\, Ropley\, Alresford\, Ham
 pshire\, United Kingdom
X-APPLE-STRUCTURED-LOCATION;VALUE=URI;X-ADDRESS=Ropley Parish Hall\, Ropley
 \, Alresford\, Hampshire\, United Kingdom;X-APPLE-RADIUS=100;X-TITLE=Rople
 y Parish Hall:geo:0,0
END:VEVENT
BEGIN:VTIMEZONE
TZID:Europe/London
X-LIC-LOCATION:Europe/London
BEGIN:STANDARD
DTSTART:20251026T010000
TZOFFSETFROM:+0100
TZOFFSETTO:+0000
TZNAME:GMT
END:STANDARD
END:VTIMEZONE
END:VCALENDAR