BEGIN:VCALENDAR
VERSION:2.0
PRODID:-//wp-events-plugin.com//7.2.3.1//EN
TZID:Europe/London
X-WR-TIMEZONE:Europe/London
BEGIN:VEVENT
UID:681@myropley.org.uk
DTSTART;TZID=Europe/London:20260328T193000
DTEND;TZID=Europe/London:20260328T220000
DTSTAMP:20260119T173336Z
URL:https://www.myropley.org.uk/events/cinema-at-ropley-i-swear/
SUMMARY:Cinema at Ropley - I Swear
DESCRIPTION:\n\n[pdf-embedder url="https://www.myropley.org.uk/wp-content/u
 ploads/2026/01/I-Swear-poster.pdf" title="I Swear poster"]\n\nTrailer: htt
 ps://www.youtube.com/watch?v=oeWqQN3snCU\n\n&nbsp\;\n\nTickets available f
 rom The Courtyard Shop &amp\;  ropleyparishhall.org.uk  \n\nSarah Flook\
 nRopley Film Society\n\n&nbsp\;\n\n&nbsp\;
CATEGORIES:Standard
LOCATION:Ropley Parish Hall\, Ropley Parish Hall\, Ropley\, Alresford\, Ham
 pshire\, United Kingdom
X-APPLE-STRUCTURED-LOCATION;VALUE=URI;X-ADDRESS=Ropley Parish Hall\, Ropley
 \, Alresford\, Hampshire\, United Kingdom;X-APPLE-RADIUS=100;X-TITLE=Rople
 y Parish Hall:geo:0,0
END:VEVENT
BEGIN:VTIMEZONE
TZID:Europe/London
X-LIC-LOCATION:Europe/London
BEGIN:STANDARD
DTSTART:20251026T010000
TZOFFSETFROM:+0100
TZOFFSETTO:+0000
TZNAME:GMT
END:STANDARD
END:VTIMEZONE
END:VCALENDAR