BEGIN:VCALENDAR
VERSION:2.0
PRODID:-//wp-events-plugin.com//7.2.3.1//EN
TZID:Europe/London
X-WR-TIMEZONE:Europe/London
BEGIN:VEVENT
UID:569@myropley.org.uk
DTSTART;TZID=Europe/London:20251018T193000
DTEND;TZID=Europe/London:20251018T213000
DTSTAMP:20250816T130732Z
URL:https://www.myropley.org.uk/events/cinema-at-ropley-mr-burton/
SUMMARY:Cinema at Ropley - Mr Burton
DESCRIPTION:[pdf-embedder url="https://www.myropley.org.uk/wp-content/uploa
 ds/2025/08/Mr-Burton-poster.pdf" title="Mr Burton poster"]\n\n\nWatch the 
 trailer at https://www.youtube.com/watch?v=K80NXtzZQ8I\n\nTickets availabl
 e from The Courtyard Shop &amp\;  ropleyparishhall.org.uk  \n\nSarah Flo
 ok\nRopley Film Society\n\n&nbsp\;\n\n&nbsp\;
CATEGORIES:Standard
LOCATION:Ropley Parish Hall\, Ropley Parish Hall\, Ropley\, Alresford\, Ham
 pshire\, United Kingdom
X-APPLE-STRUCTURED-LOCATION;VALUE=URI;X-ADDRESS=Ropley Parish Hall\, Ropley
 \, Alresford\, Hampshire\, United Kingdom;X-APPLE-RADIUS=100;X-TITLE=Rople
 y Parish Hall:geo:0,0
END:VEVENT
BEGIN:VTIMEZONE
TZID:Europe/London
X-LIC-LOCATION:Europe/London
BEGIN:DAYLIGHT
DTSTART:20250330T020000
TZOFFSETFROM:+0000
TZOFFSETTO:+0100
TZNAME:BST
END:DAYLIGHT
END:VTIMEZONE
END:VCALENDAR