BEGIN:VCALENDAR
VERSION:2.0
PRODID:-//wp-events-plugin.com//7.2.3.1//EN
TZID:Europe/London
X-WR-TIMEZONE:Europe/London
BEGIN:VEVENT
UID:682@myropley.org.uk
DTSTART;TZID=Europe/London:20260502T193000
DTEND;TZID=Europe/London:20260502T220000
DTSTAMP:20260216T095904Z
URL:https://www.myropley.org.uk/events/cinema-at-ropley-the-choral/
SUMMARY:Cinema at Ropley - The Choral
DESCRIPTION:\n\n[pdf-embedder url="https://www.myropley.org.uk/wp-content/u
 ploads/2026/01/The-Choral-poster-1.pdf" title="The Choral poster (1)"]\n\n
 Trailer: https://www.youtube.com/watch?v=xVL7yVSWdHE\n\nTickets available 
 from The Courtyard Shop &amp\;  ropleyparishhall.org.uk  \n\nSarah Flook
 \nRopley Film Society\n\n&nbsp\;\n\n&nbsp\;
CATEGORIES:Standard
LOCATION:Ropley Parish Hall\, Ropley Parish Hall\, Ropley\, Alresford\, Ham
 pshire\, United Kingdom
X-APPLE-STRUCTURED-LOCATION;VALUE=URI;X-ADDRESS=Ropley Parish Hall\, Ropley
 \, Alresford\, Hampshire\, United Kingdom;X-APPLE-RADIUS=100;X-TITLE=Rople
 y Parish Hall:geo:0,0
END:VEVENT
BEGIN:VTIMEZONE
TZID:Europe/London
X-LIC-LOCATION:Europe/London
BEGIN:DAYLIGHT
DTSTART:20260329T020000
TZOFFSETFROM:+0000
TZOFFSETTO:+0100
TZNAME:BST
END:DAYLIGHT
END:VTIMEZONE
END:VCALENDAR