BEGIN:VCALENDAR
VERSION:2.0
PRODID:-//wp-events-plugin.com//7.2.3.1//EN
TZID:Europe/London
X-WR-TIMEZONE:Europe/London
BEGIN:VEVENT
UID:265@myropley.org.uk
DTSTART;TZID=Europe/London:20250510T193000
DTEND;TZID=Europe/London:20250510T213000
DTSTAMP:20250313T112832Z
URL:https://www.myropley.org.uk/events/cinema-at-ropley-the-imitation-game
 /
SUMMARY:Cinema at Ropley - The Imitation Game
DESCRIPTION:Ropley Film Night is showing The Imitation Game  as part of VE
  Day commemoration activtities.\n\nThis film is based on the real life sto
 ry of Alan Turing (played by Benedict Cumberbatch)\, who cracked the Germa
 n Enigma code\, and hastened the end of WWII. “Sometimes it's the very p
 eople who no one imagines anything of who do the things no one can imagine
 .” ***\n\nStarts 7.30pm bar opens 7pm.\n\nPoster &amp\; tickets availabl
 e from The Courtyard Shop &amp\;  ropleyparishhall.org.uk  nearer the t
 ime\n\nSarah Flook\nRopley Film Society\n\n&nbsp\;\n\n&nbsp\;
CATEGORIES:Standard
LOCATION:Ropley Parish Hall\, Ropley Parish Hall\, Ropley\, Alresford\, Ham
 pshire\, United Kingdom
X-APPLE-STRUCTURED-LOCATION;VALUE=URI;X-ADDRESS=Ropley Parish Hall\, Ropley
 \, Alresford\, Hampshire\, United Kingdom;X-APPLE-RADIUS=100;X-TITLE=Rople
 y Parish Hall:geo:0,0
END:VEVENT
BEGIN:VTIMEZONE
TZID:Europe/London
X-LIC-LOCATION:Europe/London
BEGIN:DAYLIGHT
DTSTART:20250330T020000
TZOFFSETFROM:+0000
TZOFFSETTO:+0100
TZNAME:BST
END:DAYLIGHT
END:VTIMEZONE
END:VCALENDAR