BEGIN:VCALENDAR
VERSION:2.0
PRODID:-//wp-events-plugin.com//7.2.3.1//EN
TZID:Europe/London
X-WR-TIMEZONE:Europe/London
BEGIN:VEVENT
UID:568@myropley.org.uk
DTSTART;TZID=Europe/London:20250920T193000
DTEND;TZID=Europe/London:20250920T213000
DTSTAMP:20250911T132444Z
URL:https://www.myropley.org.uk/events/cinema-at-ropley-the-penguin-letter
 s/
SUMMARY:Cinema at Ropley -  The Penguin Lessons
DESCRIPTION:[pdf-embedder url="https://www.myropley.org.uk/wp-content/uploa
 ds/2025/08/The-Penguin-Lessons-poster.pdf" title="The Penguin Lessons post
 er"]\n\n\n\nWatch the trailer at https://www.youtube.com/watch?v=xdjEXNX1n
 SA\n\nTickets available from The Courtyard Shop &amp\;  ropleyparishhall.
 org.uk  \n\nSarah Flook\nRopley Film Society\n\n&nbsp\;\n\n&nbsp\;
CATEGORIES:Standard
LOCATION:Ropley Parish Hall\, Ropley Parish Hall\, Ropley\, Alresford\, Ham
 pshire\, United Kingdom
X-APPLE-STRUCTURED-LOCATION;VALUE=URI;X-ADDRESS=Ropley Parish Hall\, Ropley
 \, Alresford\, Hampshire\, United Kingdom;X-APPLE-RADIUS=100;X-TITLE=Rople
 y Parish Hall:geo:0,0
END:VEVENT
BEGIN:VTIMEZONE
TZID:Europe/London
X-LIC-LOCATION:Europe/London
BEGIN:DAYLIGHT
DTSTART:20250330T020000
TZOFFSETFROM:+0000
TZOFFSETTO:+0100
TZNAME:BST
END:DAYLIGHT
END:VTIMEZONE
END:VCALENDAR