BEGIN:VCALENDAR
VERSION:2.0
PRODID:-//wp-events-plugin.com//7.2.3.1//EN
TZID:Europe/London
X-WR-TIMEZONE:Europe/London
BEGIN:VEVENT
UID:670@myropley.org.uk
DTSTART;TZID=Europe/London:20260322T170000
DTEND;TZID=Europe/London:20260322T190000
DTSTAMP:20260218T142334Z
URL:https://www.myropley.org.uk/events/come-and-sing-abba/
SUMMARY:Come and Sing ABBA
DESCRIPTION:\n\nCome and join us for this irresistible ABBA event - an hour
 -long singalong of ABBA songs using scintillating soundtracks to guide eve
 ryone on an ABBA journey through their greatest hits.\n\nNo rehearsal\, ju
 st come and sing to release your inner ABBA!\nFor everyone aged 10 upwards
 .\n\nDressing up welcome but not compulsory.  Bar opens at 5.00\, singing
  starts at 5.30\n\nTickets Adults £10\, under 16’s £5 www.stpetersropl
 eyvenue.org.uk\n\n&nbsp\;\n\nJoya Logan
CATEGORIES:Standard
LOCATION:St Peter's Church\, St Peter's Church\, Ropley\, Alresford\, Hamps
 hire\, United Kingdom
X-APPLE-STRUCTURED-LOCATION;VALUE=URI;X-ADDRESS=St Peter's Church\, Ropley\
 , Alresford\, Hampshire\, United Kingdom;X-APPLE-RADIUS=100;X-TITLE=St Pet
 er's Church:geo:0,0
END:VEVENT
BEGIN:VTIMEZONE
TZID:Europe/London
X-LIC-LOCATION:Europe/London
BEGIN:STANDARD
DTSTART:20251026T010000
TZOFFSETFROM:+0100
TZOFFSETTO:+0000
TZNAME:GMT
END:STANDARD
END:VTIMEZONE
END:VCALENDAR