BEGIN:VCALENDAR
VERSION:2.0
PRODID:-//wp-events-plugin.com//7.2.3.1//EN
TZID:Europe/London
X-WR-TIMEZONE:Europe/London
BEGIN:VEVENT
UID:229@myropley.org.uk
DTSTART;TZID=Europe/London:20250308T183000
DTEND;TZID=Europe/London:20250308T193000
DTSTAMP:20250212T100554Z
URL:https://www.myropley.org.uk/events/come-and-sing-messiah/
SUMMARY:Performance of Handel's Messiah
DESCRIPTION:[flipbook pdf="https://www.myropley.org.uk/wp-content/uploads/2
 025/02/NEW-Messiah-evening-performance-flier-FINAL.pdf" width=100% height=
 1200 theme="light"]\n\nCome and listen to an abridged performance of Hande
 l’s Messiah. Doors and bar open at 6pm\n\nTickets (£5) can be bought he
 re: www.stpetersropleyvenue.org.uk/buy-tickets/p/handels-messiah-audience-
 ticket\n\nCatherine Mitchell
CATEGORIES:Standard
LOCATION:St Peter's Church\, St Peter's Church\, Ropley\, Alresford\, Hamps
 hire\, United Kingdom
X-APPLE-STRUCTURED-LOCATION;VALUE=URI;X-ADDRESS=St Peter's Church\, Ropley\
 , Alresford\, Hampshire\, United Kingdom;X-APPLE-RADIUS=100;X-TITLE=St Pet
 er's Church:geo:0,0
END:VEVENT
BEGIN:VTIMEZONE
TZID:Europe/London
X-LIC-LOCATION:Europe/London
BEGIN:STANDARD
DTSTART:20241027T010000
TZOFFSETFROM:+0100
TZOFFSETTO:+0000
TZNAME:GMT
END:STANDARD
END:VTIMEZONE
END:VCALENDAR