BEGIN:VCALENDAR
VERSION:2.0
PRODID:-//wp-events-plugin.com//7.2.3.1//EN
TZID:Europe/London
X-WR-TIMEZONE:Europe/London
BEGIN:VEVENT
UID:667@myropley.org.uk
DTSTART;TZID=Europe/London:20251129T190000
DTEND;TZID=Europe/London:20251129T203000
DTSTAMP:20251109T174129Z
URL:https://www.myropley.org.uk/events/community-advent-concert-with-rople
 y-kings-singers/
SUMMARY:Community Advent Concert with Ropley Kings Singers
DESCRIPTION:[pdf-embedder url="https://www.myropley.org.uk/wp-content/uploa
 ds/2025/11/poster-for-RKS-concert-A5.pdf" title="poster for RKS concert (A
 5)"]\nCome and join the Ropley King’s Singers at St Peter’s for their 
 annual Advent Concert with festive readings\, advent carols and a chance t
 o participate in audience carols. Saturday 29th November 7pm\nTickets avai
 lable www.stpetersropleyvenue.org.uk\n\n\nJoya Logan
CATEGORIES:Standard
LOCATION:St Peter's Church\, St Peter's Church\, Ropley\, Alresford\, Hamps
 hire\, United Kingdom
X-APPLE-STRUCTURED-LOCATION;VALUE=URI;X-ADDRESS=St Peter's Church\, Ropley\
 , Alresford\, Hampshire\, United Kingdom;X-APPLE-RADIUS=100;X-TITLE=St Pet
 er's Church:geo:0,0
END:VEVENT
BEGIN:VTIMEZONE
TZID:Europe/London
X-LIC-LOCATION:Europe/London
BEGIN:STANDARD
DTSTART:20251026T010000
TZOFFSETFROM:+0100
TZOFFSETTO:+0000
TZNAME:GMT
END:STANDARD
END:VTIMEZONE
END:VCALENDAR