BEGIN:VCALENDAR
VERSION:2.0
PRODID:-//wp-events-plugin.com//7.2.3.1//EN
TZID:Europe/London
X-WR-TIMEZONE:Europe/London
BEGIN:VEVENT
UID:45@myropley.org.uk
DTSTART;TZID=Europe/London:20240225T151500
DTEND;TZID=Europe/London:20240225T170000
DTSTAMP:20240206T094315Z
URL:https://www.myropley.org.uk/events/community-tea-concert-2/
SUMMARY:Community Tea Concert
DESCRIPTION:\n\n&nbsp\;\n\nJoin us for our second Community Tea Concert at 
 St Peter’s.\n\nWe are delighted to welcome Sarum Baroque.\n\nJoin them 
 on ‘The Grand Tour’ as they take us on a musical journey through Renai
 ssance and Baroque Italy\, including music by Vivaldi and Corelli.\n\nMira
 nda Dodd – renaissance violin\, baroque violin and recorders \n\nHilary
  Brooks – bass violin and baroque cello \n\nMatthew Dodd – baroque ba
 ssoon \n\nNigel Gardner – organ\n\nTea and cake will be served from 3.1
 5. The music will start at 4pm and last for about an hour.\n\nTickets are 
 £5 with a retiring collection.\n\nwww.stpetersropleyvenue.org.uk\n\n&nbsp
 \;
CATEGORIES:Standard
LOCATION:St Peter's Church\, St Peter's Church\, Ropley\, Alresford\, Hamps
 hire\, United Kingdom
X-APPLE-STRUCTURED-LOCATION;VALUE=URI;X-ADDRESS=St Peter's Church\, Ropley\
 , Alresford\, Hampshire\, United Kingdom;X-APPLE-RADIUS=100;X-TITLE=St Pet
 er's Church:geo:0,0
END:VEVENT
BEGIN:VTIMEZONE
TZID:Europe/London
X-LIC-LOCATION:Europe/London
BEGIN:STANDARD
DTSTART:20231029T010000
TZOFFSETFROM:+0100
TZOFFSETTO:+0000
TZNAME:GMT
END:STANDARD
END:VTIMEZONE
END:VCALENDAR