BEGIN:VCALENDAR
VERSION:2.0
PRODID:-//wp-events-plugin.com//7.2.3.1//EN
TZID:Europe/London
X-WR-TIMEZONE:Europe/London
BEGIN:VEVENT
UID:512@myropley.org.uk
DTSTART;TZID=Europe/London:20251025T151500
DTEND;TZID=Europe/London:20251025T170000
DTSTAMP:20250829T151048Z
URL:https://www.myropley.org.uk/events/community-tea-concert-4/
SUMMARY:Community Tea Concert
DESCRIPTION:[pdf-embedder url="https://www.myropley.org.uk/wp-content/uploa
 ds/2025/08/October-2025-tea-concert-no-QR-colour.pdf" title="_October 2025
  tea concert no QR colour"]\n\nEnjoy the exquisite sound of one of the mos
 t individual instruments of the orchestra\, the cor anglais - perhaps best
  described as the big brother of the oboe section. Up-and-coming talent Dr
 ake Gritton will give a recital accompanied by his father\, local Ropley m
 usician Peter Gritton\, ahead of his sell-out recital in the Liverpool Phi
 lharmonic Music Room later this year.\n\nDrake regularly appears with many
  leading orchestras including the BBC Symphony Orchestra\, Orchestra of th
 e Royal Opera House and London Symphony Orchestra.\n\nBuy tickets here:  
 https://www.stpetersropleyvenue.org.uk/buy-tickets\n\nJules Flory
CATEGORIES:Standard
LOCATION:St Peter's Church\, St Peter's Church\, Ropley\, Alresford\, Hamps
 hire\, United Kingdom
X-APPLE-STRUCTURED-LOCATION;VALUE=URI;X-ADDRESS=St Peter's Church\, Ropley\
 , Alresford\, Hampshire\, United Kingdom;X-APPLE-RADIUS=100;X-TITLE=St Pet
 er's Church:geo:0,0
END:VEVENT
BEGIN:VTIMEZONE
TZID:Europe/London
X-LIC-LOCATION:Europe/London
BEGIN:DAYLIGHT
DTSTART:20250330T020000
TZOFFSETFROM:+0000
TZOFFSETTO:+0100
TZNAME:BST
END:DAYLIGHT
END:VTIMEZONE
END:VCALENDAR