BEGIN:VCALENDAR
VERSION:2.0
PRODID:-//wp-events-plugin.com//7.2.3.1//EN
TZID:Europe/London
X-WR-TIMEZONE:Europe/London
BEGIN:VEVENT
UID:30@myropley.org.uk
DTSTART;TZID=Europe/London:20240128T151500
DTEND;TZID=Europe/London:20240128T170000
DTSTAMP:20231207T094429Z
URL:https://www.myropley.org.uk/events/community-tea-concert/
SUMMARY:Community Tea Concert
DESCRIPTION:\n\n&nbsp\;\n\nJoin us for our first Community Tea Concert at S
 t Peter’s to cheer up midwinter!\n\nWe are delighted that David Hurley\,
  a former member of the King’s Singers\, will be directing Winchester Co
 llege’s close harmony ensemble with a wide range of music.\n\nTea and ca
 ke will be served from 3.15pm. The concert will start at 4pm and last for 
 about an hour.\n\n Tickets are available at www.stpetersropleyvenue.org.
 uk or contact us at stpetersropleyvenue@gmail.uk
CATEGORIES:Standard
LOCATION:St Peter's Church\, St Peter's Church\, Ropley\, Alresford\, Hamps
 hire\, United Kingdom
X-APPLE-STRUCTURED-LOCATION;VALUE=URI;X-ADDRESS=St Peter's Church\, Ropley\
 , Alresford\, Hampshire\, United Kingdom;X-APPLE-RADIUS=100;X-TITLE=St Pet
 er's Church:geo:0,0
END:VEVENT
BEGIN:VTIMEZONE
TZID:Europe/London
X-LIC-LOCATION:Europe/London
BEGIN:STANDARD
DTSTART:20231029T010000
TZOFFSETFROM:+0100
TZOFFSETTO:+0000
TZNAME:GMT
END:STANDARD
END:VTIMEZONE
END:VCALENDAR