BEGIN:VCALENDAR
VERSION:2.0
PRODID:-//wp-events-plugin.com//7.2.3.1//EN
TZID:Europe/London
X-WR-TIMEZONE:Europe/London
BEGIN:VEVENT
UID:44@myropley.org.uk
DTSTART;TZID=Europe/London:20231206T180000
DTEND;TZID=Europe/London:20231206T200000
DTSTAMP:20231204T123546Z
URL:https://www.myropley.org.uk/events/courtyard-shop-late-night-shopping/
SUMMARY:Courtyard Shop Late Night Shopping
DESCRIPTION:The Courtyard Shop will be open this Wednesday 6th December 
 for late night shopping from 6pm to 8pm\n Christmas tree lights being swi
 tched on at 6.30 pm by Gordon Thoday from Hellards\, who have generously s
 ponsored this event.\nFree tasting of a selection of wines from Stone Vine
  &amp\; Sun\nFree mulled wine\, sausages and home-made mince pies\nGrand r
 affle for prizes including bespoke hampers – to be drawn on 22nd Decemb
 er.\nCome and shop for the foodies in your life and let us help you put to
 gether scrumptious items to tickle their tastebuds be they stocking filler
 s or presents.\n So book out Wednesday evening\, tell everyone you see an
 d bring your friends.\nSee you there!
CATEGORIES:Standard
LOCATION:Ropley Courtyard Shop\, Church St\, Ropley\, United Kingdom
X-APPLE-STRUCTURED-LOCATION;VALUE=URI;X-ADDRESS=Church St\, Ropley\, United
  Kingdom;X-APPLE-RADIUS=100;X-TITLE=Ropley Courtyard Shop:geo:0,0
END:VEVENT
BEGIN:VTIMEZONE
TZID:Europe/London
X-LIC-LOCATION:Europe/London
BEGIN:STANDARD
DTSTART:20231029T010000
TZOFFSETFROM:+0100
TZOFFSETTO:+0000
TZNAME:GMT
END:STANDARD
END:VTIMEZONE
END:VCALENDAR