BEGIN:VCALENDAR
VERSION:2.0
PRODID:-//wp-events-plugin.com//7.2.3.1//EN
TZID:Europe/London
X-WR-TIMEZONE:Europe/London
BEGIN:VEVENT
UID:42@myropley.org.uk
DTSTART;TZID=Europe/London:20231114T103000
DTEND;TZID=Europe/London:20231114T120000
DTSTAMP:20231111T135107Z
URL:https://www.myropley.org.uk/events/courtyard-shop-volunteers-meeting/
SUMMARY:Courtyard Shop - Volunteers Meeting
DESCRIPTION:Ropley Courtyard Shop are holding a meeting for all current\, a
 nd prospective\, shop volunteers.\n10.30 for 11 a.m. in The Coffee Room.\n
 Come along and find out more about volunteering at the shop.\nTeas/coffees
  and cake while we chat!\n\nJayne Swallow\n07867971493
CATEGORIES:Standard
LOCATION:Ropley Coffee Room\, Church St\, Ropley\, SO24 0DT\, United Kingdo
 m
X-APPLE-STRUCTURED-LOCATION;VALUE=URI;X-ADDRESS=Church St\, Ropley\, SO24 0
 DT\, United Kingdom;X-APPLE-RADIUS=100;X-TITLE=Ropley Coffee Room:geo:0,0
END:VEVENT
BEGIN:VTIMEZONE
TZID:Europe/London
X-LIC-LOCATION:Europe/London
BEGIN:STANDARD
DTSTART:20231029T010000
TZOFFSETFROM:+0100
TZOFFSETTO:+0000
TZNAME:GMT
END:STANDARD
END:VTIMEZONE
END:VCALENDAR