BEGIN:VCALENDAR
VERSION:2.0
PRODID:-//wp-events-plugin.com//7.2.3.1//EN
TZID:Europe/London
X-WR-TIMEZONE:Europe/London
BEGIN:VEVENT
UID:564@myropley.org.uk
DTSTART;TZID=Europe/London:20251106T090000
DTEND;TZID=Europe/London:20251106T120000
DTSTAMP:20250816T125322Z
URL:https://www.myropley.org.uk/events/electric-bike-cycling-group-trip-20
 25-09-11-2025-09-25-2025-10-09-2025-10-23-2025-11-06/
SUMMARY:Electric Bike Cycling Group Trip
DESCRIPTION:\n\nStarting location is Ropley Parish Hall\; and the duration 
 approximately 3 hours\, to allow for roughly a couple of hours of cycling 
 with a coffee stop added in too.
CATEGORIES:Standard
LOCATION:Ropley Parish Hall\, Ropley Parish Hall\, Ropley\, Alresford\, Ham
 pshire\, United Kingdom
X-APPLE-STRUCTURED-LOCATION;VALUE=URI;X-ADDRESS=Ropley Parish Hall\, Ropley
 \, Alresford\, Hampshire\, United Kingdom;X-APPLE-RADIUS=100;X-TITLE=Rople
 y Parish Hall:geo:0,0
END:VEVENT
BEGIN:VTIMEZONE
TZID:Europe/London
X-LIC-LOCATION:Europe/London
BEGIN:STANDARD
DTSTART:20251026T010000
TZOFFSETFROM:+0100
TZOFFSETTO:+0000
TZNAME:GMT
END:STANDARD
END:VTIMEZONE
END:VCALENDAR