BEGIN:VCALENDAR
VERSION:2.0
PRODID:-//wp-events-plugin.com//7.2.3.1//EN
TZID:Europe/London
X-WR-TIMEZONE:Europe/London
BEGIN:VEVENT
UID:51@myropley.org.uk
DTSTART;TZID=Europe/London:20240213T123000
DTEND;TZID=Europe/London:20240213T140000
DTSTAMP:20240108T175611Z
URL:https://www.myropley.org.uk/events/friends-of-st-peters-soup-pudding-l
 unch/
SUMMARY:Friends of St Peter's Soup & Pudding Lunch
DESCRIPTION:Tickets £10.\nAvailable from The Courtyard Shop and Alison Woo
 d (01962 773603).\n\nAlison Wood
CATEGORIES:Standard
LOCATION:Ropley Parish Hall\, Ropley Parish Hall\, Ropley\, Alresford\, Ham
 pshire\, United Kingdom
X-APPLE-STRUCTURED-LOCATION;VALUE=URI;X-ADDRESS=Ropley Parish Hall\, Ropley
 \, Alresford\, Hampshire\, United Kingdom;X-APPLE-RADIUS=100;X-TITLE=Rople
 y Parish Hall:geo:0,0
END:VEVENT
BEGIN:VTIMEZONE
TZID:Europe/London
X-LIC-LOCATION:Europe/London
BEGIN:STANDARD
DTSTART:20231029T010000
TZOFFSETFROM:+0100
TZOFFSETTO:+0000
TZNAME:GMT
END:STANDARD
END:VTIMEZONE
END:VCALENDAR