BEGIN:VCALENDAR
VERSION:2.0
PRODID:-//wp-events-plugin.com//7.2.3.1//EN
TZID:Europe/London
X-WR-TIMEZONE:Europe/London
BEGIN:VEVENT
UID:132@myropley.org.uk
DTSTART;TZID=Europe/London:20240729T194500
DTEND;TZID=Europe/London:20240729T211500
DTSTAMP:20240706T093220Z
URL:https://www.myropley.org.uk/events/gardeners-question-time-and-sweet-p
 ea-competition/
SUMMARY:Gardeners' Question Time and Sweet Pea Competition
DESCRIPTION:
CATEGORIES:Standard
END:VEVENT
BEGIN:VTIMEZONE
TZID:Europe/London
X-LIC-LOCATION:Europe/London
BEGIN:DAYLIGHT
DTSTART:20240331T020000
TZOFFSETFROM:+0000
TZOFFSETTO:+0100
TZNAME:BST
END:DAYLIGHT
END:VTIMEZONE
END:VCALENDAR