BEGIN:VCALENDAR
VERSION:2.0
PRODID:-//wp-events-plugin.com//7.2.3.1//EN
TZID:Europe/London
X-WR-TIMEZONE:Europe/London
BEGIN:VEVENT
UID:642@myropley.org.uk
DTSTART;TZID=Europe/London:20251111T173000
DTEND;TZID=Europe/London:20251111T190000
DTSTAMP:20251001T092136Z
URL:https://www.myropley.org.uk/events/minecraft-church-2-2025-09-09-2025-
 09-16-2025-09-23-2025-09-30-2025-10-07-2025-10-14-2025-10-21-2025-10-28-20
 25-11-04-2025-11-11/
SUMMARY:Minecraft Church
DESCRIPTION:Held Tuesdays in term time\n\nRevd Amber Beresford
CATEGORIES:Standard
LOCATION:St Peter's Church\, St Peter's Church\, Ropley\, Alresford\, Hamps
 hire\, United Kingdom
X-APPLE-STRUCTURED-LOCATION;VALUE=URI;X-ADDRESS=St Peter's Church\, Ropley\
 , Alresford\, Hampshire\, United Kingdom;X-APPLE-RADIUS=100;X-TITLE=St Pet
 er's Church:geo:0,0
END:VEVENT
BEGIN:VTIMEZONE
TZID:Europe/London
X-LIC-LOCATION:Europe/London
BEGIN:STANDARD
DTSTART:20251026T010000
TZOFFSETFROM:+0100
TZOFFSETTO:+0000
TZNAME:GMT
END:STANDARD
END:VTIMEZONE
END:VCALENDAR