BEGIN:VCALENDAR
VERSION:2.0
PRODID:-//wp-events-plugin.com//7.2.3.1//EN
TZID:Europe/London
X-WR-TIMEZONE:Europe/London
BEGIN:VEVENT
UID:13@myropley.org.uk
DTSTART;TZID=Europe/London:20231006T193000
DTEND;TZID=Europe/London:20231006T213000
DTSTAMP:20230830T124610Z
URL:https://www.myropley.org.uk/events/opera-for-st-peters/
SUMMARY:Opera for St Peter's
DESCRIPTION:\n\nLondon Festival Opera is one of the world’s leading indep
 endent touring opera companies. It engages distinguished opera singers fr
 om the major British opera companies\, including the Royal Opera House Cov
 ent Garden\, English National Opera\, Glyndebourne and also features excep
 tional young artists at the beginning of their international careers. The 
 Company has performed for the Royal Family\, at embassies and other events
  throughout Europe.\n\nWe are therefore thrilled to have engaged them to c
 ome and perform at St Peter’s Church\, when they will sing a programme o
 f well-known opera arias and ensembles offering an evening of passion\, dr
 ama and humour.\n\nPlease come and join us on Friday 6 October\, 2023 at 7
 .30pm\, St Peter's Church\, Ropley\, SO24 ODS. Tickets are available at ww
 w.stpetersropleyvenue.org.uk or contact us at stpetersropleyvenue@gmail.uk
 \n\n&nbsp\;
CATEGORIES:Standard
LOCATION:St Peter's Church\, St Peter's Church\, Ropley\, Alresford\, Hamps
 hire\, United Kingdom
X-APPLE-STRUCTURED-LOCATION;VALUE=URI;X-ADDRESS=St Peter's Church\, Ropley\
 , Alresford\, Hampshire\, United Kingdom;X-APPLE-RADIUS=100;X-TITLE=St Pet
 er's Church:geo:0,0
END:VEVENT
BEGIN:VTIMEZONE
TZID:Europe/London
X-LIC-LOCATION:Europe/London
BEGIN:DAYLIGHT
DTSTART:20230326T020000
TZOFFSETFROM:+0000
TZOFFSETTO:+0100
TZNAME:BST
END:DAYLIGHT
END:VTIMEZONE
END:VCALENDAR