BEGIN:VCALENDAR
VERSION:2.0
PRODID:-//wp-events-plugin.com//7.2.3.1//EN
TZID:Europe/London
X-WR-TIMEZONE:Europe/London
BEGIN:VEVENT
UID:16@myropley.org.uk
DTSTART;TZID=Europe/London:20231014T103000
DTEND;TZID=Europe/London:20231014T153000
DTSTAMP:20231005T103938Z
URL:https://www.myropley.org.uk/events/researching-your-local-and-family-h
 istory/
SUMMARY:Researching Your Local and Family History
DESCRIPTION:\n\n&nbsp\;\n\n\nPlease come along to a day providing Two Talk
 s that will give a great opportunity to learn\n\n 	\nwhat records may be 
 available locally and how to use them\n 	\nguidance in researching family 
 history\, generally and locally.\n 	\nIf you have an area of local interes
 t that you would like to research but do not know how to get started - or 
 perhaps you would like a local or family history project to do over the wi
 nter. Hopefully this interesting day will help you get started.\n 	\nMaybe
  you are just generally interested in local history and would like to brow
 se the local displays – come along and have a look!\n\nAll Day - 10.30a
 m – 3.30pm - Open to all - free browsing of the diplays and stand thr
 oughout the day with the two talks £5 each.\nThe Talks Tickets required 
 £5 (per talk)\n11.30am – 12.30pm - Starting out on local history using
  Hampshire archives: illustrated with examples from Ropley and elsewhere 
 - A talk by Sarah Lewin from the Hampshire Records Office - £5\n1.30pm 
 – 2.30pm - Your Ancestors Uncovered - how to start your own family histo
 ry research.\nFiona Ranger from the Hampshire Genealogy Society will give 
 guidance on subjects that include certificates\, censuses and parish regis
 ters\, all very valuable resources for tracing your genealogy. The talk wi
 ll end with how to record your research in a family tree. - £5\nTickets 
 for the two talks are available to buy in a number of ways. Choose either 
 or both talks that you would like to attend via\n· EVENTBRITE https://ww
 w.eventbrite.co.uk/.../researching-your-family...\n· Ropley Courtyard Sto
 res\, Church Street\, Ropley (cash only)\n· On the door on the day\, thou
 gh it would help very much if you would be kind enough to purchase your ti
 ckets beforehand to help us gauge numbers attending.\nDisplays and stands
  The Curtis Museum\, Alresford historical and Literacy society\, Mid Hant
 s Railway and some local personal archives and village projects including 
 from our own archive will be on display.\nOne such project on display is o
 f past Ropley school photographs. We are looking to name the children and 
 teachers in the school photos shown on our website.\n\n\n\n\nWe have some 
 from the 1900’s to the 1950’s but we are also looking for others class
  photographs to be shared on the website. Did you or perhaps a family memb
 er attend the school and have a class photograph? Do you have any that you
  could bring along and share.? Perhaps we can put some names to faces.\nRe
 freshments - Light refreshments will be available to buy\, but if you sta
 ying for both talks please feel free to bring a packed lunch where there w
 ill be tables provided to eat\, chat and relax in-between the two talks\nV
 enue and parking – Held at St Peters Church\, Ropley SO24 0DS. Parking 
 is at Ropley Parish Hall car park\, SO24 0DU. Go to the events page on our
  website if you need further details.\n\n\n\n\n[caption id="attachment_631
 7" align="alignleft" width="200"] 253[/caption]\n\n\n\n\n[caption id="atta
 chment_6318" align="alignleft" width="200"] 253[/caption]\n\n\n\n\n\n\n\n\
 n\n\n\n\n\n\n\n\n\n[caption id="attachment_6320" align="alignleft" width="
 200"] 253[/caption]\n\n\n\n\n\n\n\n\n\n\n\n\n253\n\n\nCaroline Ludgate\nRo
 pley History Steering Group\nwww.ropleyhistory.org.uk\n
CATEGORIES:Standard
LOCATION:St Peter's Church\, St Peter's Church\, Ropley\, Alresford\, Hamps
 hire\, United Kingdom
X-APPLE-STRUCTURED-LOCATION;VALUE=URI;X-ADDRESS=St Peter's Church\, Ropley\
 , Alresford\, Hampshire\, United Kingdom;X-APPLE-RADIUS=100;X-TITLE=St Pet
 er's Church:geo:0,0
END:VEVENT
BEGIN:VTIMEZONE
TZID:Europe/London
X-LIC-LOCATION:Europe/London
BEGIN:DAYLIGHT
DTSTART:20230326T020000
TZOFFSETFROM:+0000
TZOFFSETTO:+0100
TZNAME:BST
END:DAYLIGHT
END:VTIMEZONE
END:VCALENDAR