BEGIN:VCALENDAR
VERSION:2.0
PRODID:-//wp-events-plugin.com//7.2.3.1//EN
TZID:Europe/London
X-WR-TIMEZONE:Europe/London
BEGIN:VEVENT
UID:18@myropley.org.uk
DTSTART;TZID=Europe/London;VALUE=DATE:20230909
DTEND;TZID=Europe/London;VALUE=DATE:20230910
DTSTAMP:20230819T091319Z
URL:https://www.myropley.org.uk/events/ride-stride-2023/
SUMMARY:Ride & Stride 2023
DESCRIPTION:\nEvery September the Hampshire and Isle of Wight Historic Chur
 ches Trust (HIHCT) organises Ride and Stride\, the sponsored fundraising e
 vent which encourages you to walk\, cycle\, ride or even drive to as many 
 churches in Hampshire as you wish to.\n\nThis year Ride and Stride is bein
 g held on Saturday\, 9th September. Over 400 churches are taking part in H
 ampshire and the Isle of Wight so there are plenty to choose from!\nAll th
 ree of our churches in the BMRT area are taking part – St Nicholas at Bi
 shop Sutton\, St Peter’s at Ropley and St Mary Magdalene at West Tisted.
 \nWhy not get a group together and see how many churches you can visit? Ha
 lf of the money raised goes to the individual churches. The remaining mone
 y goes to HIHCT to help churches in need of repair or for building improve
 ments.\nMore information and the sponsorship forms can be found on the HIH
 CT website (www.hihct.org.uk) and the St Peter’s website (stpetersropley
 .org.uk). Please remember to name one of our local churches on your form!\
 n\nIf you have any queries about the event\, please contact the churchward
 ens – their names and contact details are listed on the back page of BMR
 T.\n\n\nLast year\, Catherine Harris\, Jeanne Biddle and Janice Stratton t
 ook part for St Peter's. They thoroughly enjoyed it and aim to take part a
 gain this year. If you are thinking about taking part\, Catherine would be
  happy to talk to you about what they did. Contact Catherine on 0787948370
 8
CATEGORIES:Standard
END:VEVENT
BEGIN:VTIMEZONE
TZID:Europe/London
X-LIC-LOCATION:Europe/London
BEGIN:DAYLIGHT
DTSTART:20230326T020000
TZOFFSETFROM:+0000
TZOFFSETTO:+0100
TZNAME:BST
END:DAYLIGHT
END:VTIMEZONE
END:VCALENDAR