BEGIN:VCALENDAR
VERSION:2.0
PRODID:-//wp-events-plugin.com//7.2.3.1//EN
TZID:Europe/London
X-WR-TIMEZONE:Europe/London
BEGIN:VEVENT
UID:17@myropley.org.uk
DTSTART;TZID=Europe/London:20231130T180000
DTEND;TZID=Europe/London:20231130T200000
DTSTAMP:20231031T183043Z
URL:https://www.myropley.org.uk/events/ropley-christmas-market/
SUMMARY:Ropley Christmas Market
DESCRIPTION:\n\n&nbsp\;\n\n 	\n\n 	\n\n 	\n\n 	\n\n 	\n\n 	\n\n 	\n\n 	« T
 oast the season in mulled wine - Meet Santa - Chat with friends\n 	« Buy 
 presents - Support local businesses\n 	« Hear handbells - Eat mince pies\
 n 	« Free entry\n 	« Please bring cash\, cards and good humour\n 	« Mor
 e details csharris61@gmail.com 07879483708\n 	« Thursday 30th November 20
 23 6pm – 8pm  Ropley Parish Hall\n\n\n\n\n\n\n\n\n\n\n\n\n\n\n\n&nbsp\;
 \n\nCatherine Harris
CATEGORIES:Standard
LOCATION:Ropley Parish Hall\, Ropley Parish Hall\, Ropley\, Alresford\, Ham
 pshire\, United Kingdom
X-APPLE-STRUCTURED-LOCATION;VALUE=URI;X-ADDRESS=Ropley Parish Hall\, Ropley
 \, Alresford\, Hampshire\, United Kingdom;X-APPLE-RADIUS=100;X-TITLE=Rople
 y Parish Hall:geo:0,0
END:VEVENT
BEGIN:VTIMEZONE
TZID:Europe/London
X-LIC-LOCATION:Europe/London
BEGIN:STANDARD
DTSTART:20231029T010000
TZOFFSETFROM:+0100
TZOFFSETTO:+0000
TZNAME:GMT
END:STANDARD
END:VTIMEZONE
END:VCALENDAR