BEGIN:VCALENDAR
VERSION:2.0
PRODID:-//wp-events-plugin.com//7.2.3.1//EN
TZID:Europe/London
X-WR-TIMEZONE:Europe/London
BEGIN:VEVENT
UID:297@myropley.org.uk
DTSTART;TZID=Europe/London:20250904T103000
DTEND;TZID=Europe/London:20250904T120000
DTSTAMP:20250707T082320Z
URL:https://www.myropley.org.uk/events/ropley-courtyard-community-shop-vol
 unteers-meeting/
SUMMARY:Ropley Courtyard Community Shop Volunteers Meeting
DESCRIPTION:10:30am onwards\n\nJayne Swallow
CATEGORIES:Standard
LOCATION:Ropley Coffee Room\, Church St\, Ropley\, SO24 0DT\, United Kingdo
 m
X-APPLE-STRUCTURED-LOCATION;VALUE=URI;X-ADDRESS=Church St\, Ropley\, SO24 0
 DT\, United Kingdom;X-APPLE-RADIUS=100;X-TITLE=Ropley Coffee Room:geo:0,0
END:VEVENT
BEGIN:VTIMEZONE
TZID:Europe/London
X-LIC-LOCATION:Europe/London
BEGIN:DAYLIGHT
DTSTART:20250330T020000
TZOFFSETFROM:+0000
TZOFFSETTO:+0100
TZNAME:BST
END:DAYLIGHT
END:VTIMEZONE
END:VCALENDAR