BEGIN:VCALENDAR
VERSION:2.0
PRODID:-//wp-events-plugin.com//7.2.3.1//EN
TZID:Europe/London
X-WR-TIMEZONE:Europe/London
BEGIN:VEVENT
UID:172@myropley.org.uk
DTSTART;TZID=Europe/London:20240927T170000
DTEND;TZID=Europe/London:20240927T193000
DTSTAMP:20240925T114734Z
URL:https://www.myropley.org.uk/events/ropley-courtyard-event-beer-tasting
 -and-hot-dogs/
SUMMARY:Ropley Courtyard Event: Beer-Tasting and Hot Dogs
DESCRIPTION:Explore the Flower Pot range and soak it all up with hot dogs. 
 If you’ve not sampled their ales\, this is your chance to remedy that.\n
 Tickets will be on sale shortly.\nMore details on our website and Facebook
  pages.
CATEGORIES:Standard
LOCATION:Ropley Courtyard Shop\, Church St\, Ropley\, United Kingdom
X-APPLE-STRUCTURED-LOCATION;VALUE=URI;X-ADDRESS=Church St\, Ropley\, United
  Kingdom;X-APPLE-RADIUS=100;X-TITLE=Ropley Courtyard Shop:geo:0,0
END:VEVENT
BEGIN:VTIMEZONE
TZID:Europe/London
X-LIC-LOCATION:Europe/London
BEGIN:DAYLIGHT
DTSTART:20240331T020000
TZOFFSETFROM:+0000
TZOFFSETTO:+0100
TZNAME:BST
END:DAYLIGHT
END:VTIMEZONE
END:VCALENDAR