BEGIN:VCALENDAR
VERSION:2.0
PRODID:-//wp-events-plugin.com//7.2.3.1//EN
TZID:Europe/London
X-WR-TIMEZONE:Europe/London
BEGIN:VEVENT
UID:235@myropley.org.uk
DTSTART;TZID=Europe/London:20250425T170000
DTEND;TZID=Europe/London:20250425T190000
DTSTAMP:20250212T105151Z
URL:https://www.myropley.org.uk/events/ropley-courtyard-pop-up-pub-2025-04
 -11/
SUMMARY:Ropley Courtyard "Pop Up Pub"
DESCRIPTION:Based on last year's popular events\, the 'pub' will open month
 ly\, generally (but not always!) on the 2nd Friday of each month from Apri
 l through to September.\n\nMore details nearer the time.\n\nJayne Swallow
CATEGORIES:Standard
LOCATION:Ropley Courtyard Shop\, Church St\, Ropley\, United Kingdom
X-APPLE-STRUCTURED-LOCATION;VALUE=URI;X-ADDRESS=Church St\, Ropley\, United
  Kingdom;X-APPLE-RADIUS=100;X-TITLE=Ropley Courtyard Shop:geo:0,0
END:VEVENT
BEGIN:VTIMEZONE
TZID:Europe/London
X-LIC-LOCATION:Europe/London
BEGIN:DAYLIGHT
DTSTART:20250330T020000
TZOFFSETFROM:+0000
TZOFFSETTO:+0100
TZNAME:BST
END:DAYLIGHT
END:VTIMEZONE
END:VCALENDAR