BEGIN:VCALENDAR
VERSION:2.0
PRODID:-//wp-events-plugin.com//7.2.3.1//EN
TZID:Europe/London
X-WR-TIMEZONE:Europe/London
BEGIN:VEVENT
UID:296@myropley.org.uk
DTSTART;TZID=Europe/London:20251022T193000
DTEND;TZID=Europe/London:20251022T203000
DTSTAMP:20250707T082347Z
URL:https://www.myropley.org.uk/events/ropley-courtyard-shop-annual-open-m
 eeting/
SUMMARY:Ropley Courtyard Shop - Annual Open Meeting
DESCRIPTION:7pm for 7:30pm\n\nJayne Swallow
CATEGORIES:Standard
LOCATION:Ropley Sports Pavilion\, Vicarage Lane \, Ropley\, SO24 0DJ\, Unit
 ed Kingdom
X-APPLE-STRUCTURED-LOCATION;VALUE=URI;X-ADDRESS=Vicarage Lane \, Ropley\, S
 O24 0DJ\, United Kingdom;X-APPLE-RADIUS=100;X-TITLE=Ropley Sports Pavilion
 :geo:0,0
END:VEVENT
BEGIN:VTIMEZONE
TZID:Europe/London
X-LIC-LOCATION:Europe/London
BEGIN:DAYLIGHT
DTSTART:20250330T020000
TZOFFSETFROM:+0000
TZOFFSETTO:+0100
TZNAME:BST
END:DAYLIGHT
END:VTIMEZONE
END:VCALENDAR