BEGIN:VCALENDAR
VERSION:2.0
PRODID:-//wp-events-plugin.com//7.2.3.1//EN
TZID:Europe/London
X-WR-TIMEZONE:Europe/London
BEGIN:VEVENT
UID:212@myropley.org.uk
DTSTART;TZID=Europe/London:20241107T103000
DTEND;TZID=Europe/London:20241107T120000
DTSTAMP:20241006T100158Z
URL:https://www.myropley.org.uk/events/ropley-courtyard-shop-volunteers-co
 ffee-and-chat/
SUMMARY:Ropley Courtyard Shop Volunteers Coffee and Chat
DESCRIPTION:A chance for existing volunteers to meet up as well as people c
 onsidering volunteering at the shop\n\nJayne Swallow
CATEGORIES:Standard
LOCATION:Ropley Coffee Room\, Church St\, Ropley\, SO24 0DT\, United Kingdo
 m
X-APPLE-STRUCTURED-LOCATION;VALUE=URI;X-ADDRESS=Church St\, Ropley\, SO24 0
 DT\, United Kingdom;X-APPLE-RADIUS=100;X-TITLE=Ropley Coffee Room:geo:0,0
END:VEVENT
BEGIN:VTIMEZONE
TZID:Europe/London
X-LIC-LOCATION:Europe/London
BEGIN:STANDARD
DTSTART:20241027T010000
TZOFFSETFROM:+0100
TZOFFSETTO:+0000
TZNAME:GMT
END:STANDARD
END:VTIMEZONE
END:VCALENDAR