BEGIN:VCALENDAR
VERSION:2.0
PRODID:-//wp-events-plugin.com//7.2.3.1//EN
TZID:Europe/London
X-WR-TIMEZONE:Europe/London
BEGIN:VEVENT
UID:213@myropley.org.uk
DTSTART;TZID=Europe/London:20241120T180000
DTEND;TZID=Europe/London:20241120T200000
DTSTAMP:20241007T093738Z
URL:https://www.myropley.org.uk/events/ropley-courtyard-shop-wine-tasting-
 evening-with-stone-vine-and-son/
SUMMARY:Ropley Courtyard Shop Wine Tasting evening with Stone\, Vine and So
 n
DESCRIPTION:Tickets £12\n\nJayne Swallow
CATEGORIES:Standard
LOCATION:Ropley Courtyard Shop\, Church St\, Ropley\, United Kingdom
X-APPLE-STRUCTURED-LOCATION;VALUE=URI;X-ADDRESS=Church St\, Ropley\, United
  Kingdom;X-APPLE-RADIUS=100;X-TITLE=Ropley Courtyard Shop:geo:0,0
END:VEVENT
BEGIN:VTIMEZONE
TZID:Europe/London
X-LIC-LOCATION:Europe/London
BEGIN:STANDARD
DTSTART:20241027T010000
TZOFFSETFROM:+0100
TZOFFSETTO:+0000
TZNAME:GMT
END:STANDARD
END:VTIMEZONE
END:VCALENDAR