BEGIN:VCALENDAR
VERSION:2.0
PRODID:-//wp-events-plugin.com//7.2.3.1//EN
TZID:Europe/London
X-WR-TIMEZONE:Europe/London
BEGIN:VEVENT
UID:106@myropley.org.uk
DTSTART;TZID=Europe/London:20240504T130000
DTEND;TZID=Europe/London:20240504T200000
DTSTAMP:20240429T172507Z
URL:https://www.myropley.org.uk/events/ropley-cricket-club-warm-up-friendl
 y-match/
SUMMARY:Ropley Cricket Club Warm Up Friendly Match
DESCRIPTION:\nOn May 4th 2024\, Ropley Cricket Club will be holding a frien
 dly intra-club game\, starting at 1pm to mark the start of the cricket sea
 son - and we’ve got a few treats in store!\n\n‘Son of a Bun’ food tr
 uck will be serving up amazing gourmet fried chicken burgers (vegetarian a
 lternatives are available) from 4-8pm\, and is open to all\, not just the 
 cricketers\, so come down\, have a burger\, get a drink from the sports cl
 ub\, and watch some cricket!\n\nMaybe you’d even like to play? Even if i
 t’s been a few (or more) years since you last played\, or even if you’
 ve never played\, but always fancied a go\, let’s us know at chair@rople
 ycc.co.uk and we can get you a game!\n\nAnd even if crickets not your thin
 g\, the food and drinks will always be good!\n\nBen Matthews\nRCC Chair
CATEGORIES:Standard
LOCATION:Ropley Recreation Ground\, Vicarage Lane\, Ropley\, United Kingdom
X-APPLE-STRUCTURED-LOCATION;VALUE=URI;X-ADDRESS=Vicarage Lane\, Ropley\, Un
 ited Kingdom;X-APPLE-RADIUS=100;X-TITLE=Ropley Recreation Ground:geo:0,0
END:VEVENT
BEGIN:VTIMEZONE
TZID:Europe/London
X-LIC-LOCATION:Europe/London
BEGIN:DAYLIGHT
DTSTART:20240331T020000
TZOFFSETFROM:+0000
TZOFFSETTO:+0100
TZNAME:BST
END:DAYLIGHT
END:VTIMEZONE
END:VCALENDAR