BEGIN:VCALENDAR
VERSION:2.0
PRODID:-//wp-events-plugin.com//7.2.3.1//EN
TZID:Europe/London
X-WR-TIMEZONE:Europe/London
BEGIN:VEVENT
UID:47@myropley.org.uk
DTSTART;TZID=Europe/London:20240103T143000
DTEND;TZID=Europe/London:20240103T153000
DTSTAMP:20231216T094903Z
URL:https://www.myropley.org.uk/events/ropley-fayre-agm/
SUMMARY:Ropley Fayre AGM
DESCRIPTION:Open to all - this will be held in the Tack Room at the shop\nP
 lease come along and support\nThe Ropley Fayre committee will be adopting 
 a constitution and presenting annual accounts.
CATEGORIES:Standard
LOCATION:Ropley Courtyard Shop\, Church St\, Ropley\, United Kingdom
X-APPLE-STRUCTURED-LOCATION;VALUE=URI;X-ADDRESS=Church St\, Ropley\, United
  Kingdom;X-APPLE-RADIUS=100;X-TITLE=Ropley Courtyard Shop:geo:0,0
END:VEVENT
BEGIN:VTIMEZONE
TZID:Europe/London
X-LIC-LOCATION:Europe/London
BEGIN:STANDARD
DTSTART:20231029T010000
TZOFFSETFROM:+0100
TZOFFSETTO:+0000
TZNAME:GMT
END:STANDARD
END:VTIMEZONE
END:VCALENDAR