BEGIN:VCALENDAR
VERSION:2.0
PRODID:-//wp-events-plugin.com//7.2.3.1//EN
TZID:Europe/London
X-WR-TIMEZONE:Europe/London
BEGIN:VEVENT
UID:698@myropley.org.uk
DTSTART;TZID=Europe/London:20260321T143000
DTEND;TZID=Europe/London:20260321T160000
DTSTAMP:20260309T105241Z
URL:https://www.myropley.org.uk/events/ropley-horticultural-society-spring
 -show-3/
SUMMARY:Ropley Horticultural Society Spring Show
DESCRIPTION:[pdf-embedder url="https://www.myropley.org.uk/wp-content/uploa
 ds/2026/03/Village-Spring-Show-Poster-March-2026_.pdf" title="Village Spri
 ng Show Poster March 2026_"]\n\nParking free\n\nAll welcome\n\nEnquiries: 
 Jill on 01962 772425
CATEGORIES:Standard
LOCATION:Ropley Parish Hall\, Ropley Parish Hall\, Ropley\, Alresford\, Ham
 pshire\, United Kingdom
X-APPLE-STRUCTURED-LOCATION;VALUE=URI;X-ADDRESS=Ropley Parish Hall\, Ropley
 \, Alresford\, Hampshire\, United Kingdom;X-APPLE-RADIUS=100;X-TITLE=Rople
 y Parish Hall:geo:0,0
END:VEVENT
BEGIN:VTIMEZONE
TZID:Europe/London
X-LIC-LOCATION:Europe/London
BEGIN:STANDARD
DTSTART:20251026T010000
TZOFFSETFROM:+0100
TZOFFSETTO:+0000
TZNAME:GMT
END:STANDARD
END:VTIMEZONE
END:VCALENDAR