BEGIN:VCALENDAR
VERSION:2.0
PRODID:-//wp-events-plugin.com//7.2.3.1//EN
TZID:Europe/London
X-WR-TIMEZONE:Europe/London
BEGIN:VEVENT
UID:250@myropley.org.uk
DTSTART;TZID=Europe/London:20250728T194500
DTEND;TZID=Europe/London:20250728T211500
DTSTAMP:20250712T134940Z
URL:https://www.myropley.org.uk/events/ropley-horticultural-society-talk-b
 ritish-alstroemeria-with-ben-cross/
SUMMARY:Ropley Horticultural Society Talk 'Herbaceous Borders' with Geoff H
 awkins
DESCRIPTION:The Society will also hold its annual Sweet Pea Competition - 
 you are invited to bring 3 stems of annual sweet peas in a vase of your ch
 oice to be judged by Geoff.\n\nParking free\nGuests £5 on the door includ
 es refreshments\, all welcome\nEnquiries: Jill 01962 772425
CATEGORIES:Standard
LOCATION:Ropley Parish Hall\, Ropley Parish Hall\, Ropley\, Alresford\, Ham
 pshire\, United Kingdom
X-APPLE-STRUCTURED-LOCATION;VALUE=URI;X-ADDRESS=Ropley Parish Hall\, Ropley
 \, Alresford\, Hampshire\, United Kingdom;X-APPLE-RADIUS=100;X-TITLE=Rople
 y Parish Hall:geo:0,0
END:VEVENT
BEGIN:VTIMEZONE
TZID:Europe/London
X-LIC-LOCATION:Europe/London
BEGIN:DAYLIGHT
DTSTART:20250330T020000
TZOFFSETFROM:+0000
TZOFFSETTO:+0100
TZNAME:BST
END:DAYLIGHT
END:VTIMEZONE
END:VCALENDAR